BEGIN:VCALENDAR
VERSION:2.0
PRODID:-//Debra Disman - ECPv6.15.20//NONSGML v1.0//EN
CALSCALE:GREGORIAN
METHOD:PUBLISH
X-WR-CALNAME:Debra Disman
X-ORIGINAL-URL:https://debradisman.com
X-WR-CALDESC:Events for Debra Disman
REFRESH-INTERVAL;VALUE=DURATION:PT1H
X-Robots-Tag:noindex
X-PUBLISHED-TTL:PT1H
BEGIN:VTIMEZONE
TZID:America/Los_Angeles
BEGIN:DAYLIGHT
TZOFFSETFROM:-0800
TZOFFSETTO:-0700
TZNAME:PDT
DTSTART:20250309T100000
END:DAYLIGHT
BEGIN:STANDARD
TZOFFSETFROM:-0700
TZOFFSETTO:-0800
TZNAME:PST
DTSTART:20251102T090000
END:STANDARD
BEGIN:DAYLIGHT
TZOFFSETFROM:-0800
TZOFFSETTO:-0700
TZNAME:PDT
DTSTART:20260308T100000
END:DAYLIGHT
BEGIN:STANDARD
TZOFFSETFROM:-0700
TZOFFSETTO:-0800
TZNAME:PST
DTSTART:20261101T090000
END:STANDARD
BEGIN:DAYLIGHT
TZOFFSETFROM:-0800
TZOFFSETTO:-0700
TZNAME:PDT
DTSTART:20270314T100000
END:DAYLIGHT
BEGIN:STANDARD
TZOFFSETFROM:-0700
TZOFFSETTO:-0800
TZNAME:PST
DTSTART:20271107T090000
END:STANDARD
END:VTIMEZONE
BEGIN:VEVENT
DTSTART;TZID=America/Los_Angeles:20260313T170000
DTEND;TZID=America/Los_Angeles:20260503T170000
DTSTAMP:20260424T155854
CREATED:20260302T224501Z
LAST-MODIFIED:20260422T200218Z
UID:15789-1773421200-1777827600@debradisman.com
SUMMARY:EXHIBITIONISTA: Black & White: An Achromatic Textile & Fiber Exhibition
DESCRIPTION:I am pleased to participate in Black & White: An Achromatic Textile & Fiber Exhibition at the William Scofield Gallery\, showing: (apropos…)\n“It’s Not Black and White“\,  9 x 22 x 7.5″\, book board\, canvas\, paper\, typewriter ribbon\, hemp cord.  \n\n \nPlease view works in the exhibition HERE!\n“William Scofield Gallery is a curated spaced devoted to the elevation of contemporary fiber and textile art. Through thoughtful curation\, we aim to shift perceptions of fiber and textile to fine art. Our exhibitions highlight the full spectrum of fiber art from woven to stitched\, soft sculpture to experimental surfaces. We \nchampion artists that use fiber as a language to bring together\, form\, material and story.”
URL:https://debradisman.com/event/black-white-an-achromatic-textile-fiber-exhibition/
LOCATION:William Scofield Gallery\, 1059 Officers Row\, Vancouver\, WA\, 98661\, United States
CATEGORIES:Exhibitions
ATTACH;FMTTYPE=image/jpeg:https://debradisman.com/wp-content/uploads/2026/03/DD_10.15.210034-scaled.jpg
ORGANIZER;CN="William Scofield Gallery":MAILTO:Kelly@williamscofieldgallery.com
END:VEVENT
END:VCALENDAR