BEGIN:VCALENDAR
VERSION:2.0
PRODID:-//Debra Disman - ECPv6.15.20//NONSGML v1.0//EN
CALSCALE:GREGORIAN
METHOD:PUBLISH
X-ORIGINAL-URL:https://debradisman.com
X-WR-CALDESC:Events for Debra Disman
REFRESH-INTERVAL;VALUE=DURATION:PT1H
X-Robots-Tag:noindex
X-PUBLISHED-TTL:PT1H
BEGIN:VTIMEZONE
TZID:America/Los_Angeles
BEGIN:DAYLIGHT
TZOFFSETFROM:-0800
TZOFFSETTO:-0700
TZNAME:PDT
DTSTART:20250309T100000
END:DAYLIGHT
BEGIN:STANDARD
TZOFFSETFROM:-0700
TZOFFSETTO:-0800
TZNAME:PST
DTSTART:20251102T090000
END:STANDARD
BEGIN:DAYLIGHT
TZOFFSETFROM:-0800
TZOFFSETTO:-0700
TZNAME:PDT
DTSTART:20260308T100000
END:DAYLIGHT
BEGIN:STANDARD
TZOFFSETFROM:-0700
TZOFFSETTO:-0800
TZNAME:PST
DTSTART:20261101T090000
END:STANDARD
BEGIN:DAYLIGHT
TZOFFSETFROM:-0800
TZOFFSETTO:-0700
TZNAME:PDT
DTSTART:20270314T100000
END:DAYLIGHT
BEGIN:STANDARD
TZOFFSETFROM:-0700
TZOFFSETTO:-0800
TZNAME:PST
DTSTART:20271107T090000
END:STANDARD
END:VTIMEZONE
BEGIN:VEVENT
DTSTART;TZID=America/Los_Angeles:20260425T110000
DTEND;TZID=America/Los_Angeles:20260425T150000
DTSTAMP:20260424T174114
CREATED:20260416T191443Z
LAST-MODIFIED:20260424T181318Z
UID:15900-1777114800-1777129200@debradisman.com
SUMMARY:Book Art Making at the Torrance Art Museum!
DESCRIPTION:JOIN US!\n\nSaturday April 25th from 11AM to 3PM create your own one- of-a-kind artists’ book in conjunction with and response to the incredible Ralph Steadman show “And Another currently at the beautiful Torrance Art Museum! (TAM)\n\n\nExplore the show\, and add your own text and images to your book!\nOn view from March 28 – May 09\, 2026\n\n\n\n\n\n\n\n\n\n\n\n\n\n\n\n\n\n\n\n\n\n\n\n\n\n\nMAIN GALLERY: Ralph Steadman: and Another Thing\nThis traveling exhibition spans over 60 years of Ralph Steadman’s influential career\, featuring more than 140 original artworks and ephemera\, including sketchbooks\, handwritten notes\, and personal photographs. Steadman is best known for his long collaboration with Hunter S. Thompson\, notably illustrating “Fear and Loathing in Las Vegas.” Their partnership helped define Gonzo journalism\, a style of reporting that blends personal experience with political commentary. Coined by journalist Bill Cardoso\, Gonzo’s impact is still felt today in online news\, editorial pieces\, social media\, and political punditry. \nThe exhibition showcases his diverse body of work\, from iconic illustrations for Lewis Carroll’s “Alice in Wonderland” and Robert Louis Stevenson’s “Treasure Island” to collections like “The Gonzovation Trilogy\,” created in collaboration with documentarian and filmmaker Ceri Levy to raise awareness about endangered species. Featured works include nine portraits of U.S. Presidents\, over 20 images of famous people\, including T.S. Eliot\, Karl Marx\, Virginia Woolf\, and George Orwell\, and “Vintage Dr. Gonzo\,” a life-size bronze sculpture. \nThis exhibition is organized by the Ralph Steadman Art Collection. Sponsored by United Therapeutics\, Flying Dog\, and Beta Technologies.
URL:https://debradisman.com/event/unique-bookmaking-at-the-torrance-art-museum/
LOCATION:Torrance Art Museum (TAM)\, 3320 Civic Center Drive\, Torrance\, CA\, 90503\, United States
CATEGORIES:Presentations,Teaching
ATTACH;FMTTYPE=image/jpeg:https://debradisman.com/wp-content/uploads/2026/04/Steadman_2.jpeg
END:VEVENT
END:VCALENDAR