BEGIN:VCALENDAR
VERSION:2.0
PRODID:-//Debra Disman - ECPv6.15.20//NONSGML v1.0//EN
CALSCALE:GREGORIAN
METHOD:PUBLISH
X-WR-CALNAME:Debra Disman
X-ORIGINAL-URL:https://debradisman.com
X-WR-CALDESC:Events for Debra Disman
REFRESH-INTERVAL;VALUE=DURATION:PT1H
X-Robots-Tag:noindex
X-PUBLISHED-TTL:PT1H
BEGIN:VTIMEZONE
TZID:America/Los_Angeles
BEGIN:DAYLIGHT
TZOFFSETFROM:-0800
TZOFFSETTO:-0700
TZNAME:PDT
DTSTART:20250309T100000
END:DAYLIGHT
BEGIN:STANDARD
TZOFFSETFROM:-0700
TZOFFSETTO:-0800
TZNAME:PST
DTSTART:20251102T090000
END:STANDARD
BEGIN:DAYLIGHT
TZOFFSETFROM:-0800
TZOFFSETTO:-0700
TZNAME:PDT
DTSTART:20260308T100000
END:DAYLIGHT
BEGIN:STANDARD
TZOFFSETFROM:-0700
TZOFFSETTO:-0800
TZNAME:PST
DTSTART:20261101T090000
END:STANDARD
BEGIN:DAYLIGHT
TZOFFSETFROM:-0800
TZOFFSETTO:-0700
TZNAME:PDT
DTSTART:20270314T100000
END:DAYLIGHT
BEGIN:STANDARD
TZOFFSETFROM:-0700
TZOFFSETTO:-0800
TZNAME:PST
DTSTART:20271107T090000
END:STANDARD
END:VTIMEZONE
BEGIN:VEVENT
DTSTART;TZID=America/Los_Angeles:20260529T170000
DTEND;TZID=America/Los_Angeles:20260717T170000
DTSTAMP:20260424T205648
CREATED:20260422T205045Z
LAST-MODIFIED:20260422T205045Z
UID:15975-1780074000-1784307600@debradisman.com
SUMMARY:EXHIBITIONISTA: "HOME v.2: Homeland"
DESCRIPTION: I am thrilled to participate in “HOME v.2: Homeland”\, an exhibition presented by the Decatur Arts Alliance\, happening in Decatur\, Georgia\nMay 29 – July 18\, 2026 \nThe Decatur Arts Alliance and the Decatur Land Trust are partnering with the Decatur Library to present the second edition of powerful art show celebrating the multifaceted meaning of “Home.”\nArtists working in an array of mediums lend their creative voices to this important cause. \nThe theme for “HOME v.2 2026” is “HOMELAND.” \n“A person’s or a people’s native land\, we look to explore “homeland” as a geographical point of origin and a state of being. Works should express cultural and ethnic elements\, and elucidate the view of “home” from the immigrant to the expatriate\, the displaced to the indigenous. How do we find “home” when we are away from the land of our forebears? What do newly arrived peoples do to preserve their culture and heritage? How do we honor and acknowledge the indigenous inhabitants of the lands upon which we all now live? \nThe exhibiting artists’ creativity illuminate the diverse ways we experience and define “home\,” and their connection with a “HOMELAND.” \n  \nI will be showing:\n“Torrent and Tangle: Keep Your House in Order”\n\n\n  \n\n\n  \nThe HOME Exhibition is a multimedia showcase presented by the Decatur Arts Alliance in collaboration with the Decatur Land Trust and the Decatur branch of the Dekalb County Public Library. The exhibition will be shown in the Fourth Floor Gallery of the Decatur Library\, home to the Georgia Center for the Book.\n\nThe show will run May 29 – July 17\, 2026\nOpening reception on Friday\, May 29 from 6:30-9pm.
URL:https://debradisman.com/event/exhibitionista-home-v-2-homeland/
LOCATION:Decatur Library\, 215 Sycamore Street\, Decatur\, GA\, 30030\, United States
CATEGORIES:Exhibitions
ATTACH;FMTTYPE=image/png:https://debradisman.com/wp-content/uploads/2026/04/HOME_HOMELAND_2026.png
END:VEVENT
END:VCALENDAR