BEGIN:VCALENDAR
VERSION:2.0
PRODID:-//Debra Disman - ECPv6.15.20//NONSGML v1.0//EN
CALSCALE:GREGORIAN
METHOD:PUBLISH
X-WR-CALNAME:Debra Disman
X-ORIGINAL-URL:https://debradisman.com
X-WR-CALDESC:Events for Debra Disman
REFRESH-INTERVAL;VALUE=DURATION:PT1H
X-Robots-Tag:noindex
X-PUBLISHED-TTL:PT1H
BEGIN:VTIMEZONE
TZID:America/Los_Angeles
BEGIN:DAYLIGHT
TZOFFSETFROM:-0800
TZOFFSETTO:-0700
TZNAME:PDT
DTSTART:20250309T100000
END:DAYLIGHT
BEGIN:STANDARD
TZOFFSETFROM:-0700
TZOFFSETTO:-0800
TZNAME:PST
DTSTART:20251102T090000
END:STANDARD
BEGIN:DAYLIGHT
TZOFFSETFROM:-0800
TZOFFSETTO:-0700
TZNAME:PDT
DTSTART:20260308T100000
END:DAYLIGHT
BEGIN:STANDARD
TZOFFSETFROM:-0700
TZOFFSETTO:-0800
TZNAME:PST
DTSTART:20261101T090000
END:STANDARD
BEGIN:DAYLIGHT
TZOFFSETFROM:-0800
TZOFFSETTO:-0700
TZNAME:PDT
DTSTART:20270314T100000
END:DAYLIGHT
BEGIN:STANDARD
TZOFFSETFROM:-0700
TZOFFSETTO:-0800
TZNAME:PST
DTSTART:20271107T090000
END:STANDARD
END:VTIMEZONE
BEGIN:VEVENT
DTSTART;TZID=America/Los_Angeles:20260210T080000
DTEND;TZID=America/Los_Angeles:20260319T170000
DTSTAMP:20260424T191151
CREATED:20260126T204738Z
LAST-MODIFIED:20260318T184442Z
UID:15493-1770710400-1773939600@debradisman.com
SUMMARY:EXHIBITIONISTA: Handwork\, The Material Intelligence of Touch
DESCRIPTION:As part of presented by Craft in America\, \nTextile Arts LA presents:\nHandwork\, The Material Intelligence of Touch!\n\nAt the Marks Center\, College of the Desert.\nThe exhibit brings together artists from Textile Arts LA whose work centers the hand as both method and metaphor. Inspired by artist Ann Hamilton’s concept of the “sewing hand”—the idea that making by hand is a way of knowing—we explore how tactile engagement with material connects body to mind\, individual to community\, and past to present.\nPlease VIEW THE SHOW HERE \nI am delighted to participate with two works included:\n\n“Communion“\, 2025\, 10.5 x 21.5 x 8.5” (dimensions variable)\, wood\, hemp/assorted cord\, acrylic paint \n\n“La Forêt I“\, 2024\, 62 x 17 x 1”\, canvas\, acrylic paint\, hemp/jute/cotton cord
URL:https://debradisman.com/event/exhibitionista-handwork-the-material-intelligence-of-touch/
LOCATION:Walter N. Marks Center for the Arts Gallery\, College of the Desert\, 43500 Monterey Ave\, Palm Desert\, California\, 92260
CATEGORIES:Exhibitions
ATTACH;FMTTYPE=image/jpeg:https://debradisman.com/wp-content/uploads/2026/01/TALA_HANDWORK_MATERIAL_2026.jpeg
ORGANIZER;CN="TEXTILE ARTS LA":MAILTO:email — membership@textileartsla.org email — carrie@textileartsla.org DM — @textileartsla
END:VEVENT
END:VCALENDAR