BEGIN:VCALENDAR
VERSION:2.0
PRODID:-//Debra Disman - ECPv6.15.20//NONSGML v1.0//EN
CALSCALE:GREGORIAN
METHOD:PUBLISH
X-ORIGINAL-URL:https://debradisman.com
X-WR-CALDESC:Events for Debra Disman
REFRESH-INTERVAL;VALUE=DURATION:PT1H
X-Robots-Tag:noindex
X-PUBLISHED-TTL:PT1H
BEGIN:VTIMEZONE
TZID:America/Los_Angeles
BEGIN:DAYLIGHT
TZOFFSETFROM:-0800
TZOFFSETTO:-0700
TZNAME:PDT
DTSTART:20230312T100000
END:DAYLIGHT
BEGIN:STANDARD
TZOFFSETFROM:-0700
TZOFFSETTO:-0800
TZNAME:PST
DTSTART:20231105T090000
END:STANDARD
BEGIN:DAYLIGHT
TZOFFSETFROM:-0800
TZOFFSETTO:-0700
TZNAME:PDT
DTSTART:20240310T100000
END:DAYLIGHT
BEGIN:STANDARD
TZOFFSETFROM:-0700
TZOFFSETTO:-0800
TZNAME:PST
DTSTART:20241103T090000
END:STANDARD
BEGIN:DAYLIGHT
TZOFFSETFROM:-0800
TZOFFSETTO:-0700
TZNAME:PDT
DTSTART:20250309T100000
END:DAYLIGHT
BEGIN:STANDARD
TZOFFSETFROM:-0700
TZOFFSETTO:-0800
TZNAME:PST
DTSTART:20251102T090000
END:STANDARD
BEGIN:DAYLIGHT
TZOFFSETFROM:-0800
TZOFFSETTO:-0700
TZNAME:PDT
DTSTART:20260308T100000
END:DAYLIGHT
BEGIN:STANDARD
TZOFFSETFROM:-0700
TZOFFSETTO:-0800
TZNAME:PST
DTSTART:20261101T090000
END:STANDARD
BEGIN:DAYLIGHT
TZOFFSETFROM:-0800
TZOFFSETTO:-0700
TZNAME:PDT
DTSTART:20270314T100000
END:DAYLIGHT
BEGIN:STANDARD
TZOFFSETFROM:-0700
TZOFFSETTO:-0800
TZNAME:PST
DTSTART:20271107T090000
END:STANDARD
BEGIN:DAYLIGHT
TZOFFSETFROM:-0800
TZOFFSETTO:-0700
TZNAME:PDT
DTSTART:20280312T100000
END:DAYLIGHT
BEGIN:STANDARD
TZOFFSETFROM:-0700
TZOFFSETTO:-0800
TZNAME:PST
DTSTART:20281105T090000
END:STANDARD
BEGIN:DAYLIGHT
TZOFFSETFROM:-0800
TZOFFSETTO:-0700
TZNAME:PDT
DTSTART:20290311T100000
END:DAYLIGHT
BEGIN:STANDARD
TZOFFSETFROM:-0700
TZOFFSETTO:-0800
TZNAME:PST
DTSTART:20291104T090000
END:STANDARD
BEGIN:DAYLIGHT
TZOFFSETFROM:-0800
TZOFFSETTO:-0700
TZNAME:PDT
DTSTART:20300310T100000
END:DAYLIGHT
BEGIN:STANDARD
TZOFFSETFROM:-0700
TZOFFSETTO:-0800
TZNAME:PST
DTSTART:20301103T090000
END:STANDARD
BEGIN:DAYLIGHT
TZOFFSETFROM:-0800
TZOFFSETTO:-0700
TZNAME:PDT
DTSTART:20310309T100000
END:DAYLIGHT
BEGIN:STANDARD
TZOFFSETFROM:-0700
TZOFFSETTO:-0800
TZNAME:PST
DTSTART:20311102T090000
END:STANDARD
END:VTIMEZONE
BEGIN:VEVENT
DTSTART;VALUE=DATE:20240808
DTEND;VALUE=DATE:20300809
DTSTAMP:20260424T180400
CREATED:20241007T203203Z
LAST-MODIFIED:20250811T204109Z
UID:13121-1723075200-1912463999@debradisman.com
SUMMARY:“Adapting through Curiosity and Connection with Debra Disman”: My Podcast with Alyson B. Stanfield/Art Biz Success!
DESCRIPTION:I was thrilled to have this conversation with the one and only Alyson B. Stanfield of Art Biz Success\, someone I have admired and followed for a long time!\nSome of the points we cover: \n“In this episode of The Art Biz\, Debra shares her journey\, revealing how she has navigated this transition with resilience. \nThroughout our conversation\, several key themes emerge: \n\nDebra’s fierce curiosity that drives her to explore and understand her surroundings.\nHer drive to pursue new opportunities\, no matter the obstacles.\nThe critical role of networking and the connections she’s made along the way.\nThe power of making consistent progress\, even through small\, daily actions.\nThe importance of staying adaptable in an ever-changing world.”\n\nPlease click the link below to hear\, see and read about our conversation. I hope it holds some gold for YOU.\n“Adapting through Curiosity and Connection with Debra Disman” (ep. 202)\nPODCAST with Alyson B. Stanfield/Art Biz Success\nListen to the PODCAST
URL:https://debradisman.com/event/adapting-through-curiosity-and-connection-with-debra-disman-my-podcast-with-alyson-b-stanfield-art-biz-success/
LOCATION:CA
CATEGORIES:Presentations
ATTACH;FMTTYPE=image/jpeg:https://debradisman.com/wp-content/uploads/2024/09/AndreSmits-03-2024-18th-Street-1200-cropped.jpg
END:VEVENT
END:VCALENDAR